BEGIN:VCALENDAR
VERSION:2.0
PRODID:-//Heatmor® - ECPv6.15.17.1//NONSGML v1.0//EN
CALSCALE:GREGORIAN
METHOD:PUBLISH
X-ORIGINAL-URL:https://heatmor.com
X-WR-CALDESC:Events for Heatmor®
REFRESH-INTERVAL;VALUE=DURATION:PT1H
X-Robots-Tag:noindex
X-PUBLISHED-TTL:PT1H
BEGIN:VTIMEZONE
TZID:UTC
BEGIN:STANDARD
TZOFFSETFROM:+0000
TZOFFSETTO:+0000
TZNAME:UTC
DTSTART:20180101T000000
END:STANDARD
END:VTIMEZONE
BEGIN:VEVENT
DTSTART;VALUE=DATE:20220715
DTEND;VALUE=DATE:20220726
DTSTAMP:20260423T101411
CREATED:20220726T174613Z
LAST-MODIFIED:20220726T174613Z
UID:5230-1657843200-1658793599@heatmor.com
SUMMARY:Lycoming County Fair
DESCRIPTION:
URL:https://heatmor.com/event/lycoming-county-fair-3/
LOCATION:Hughesville\, PA\, Hughesville\, PA\, United States
CATEGORIES:Pennsylvania
END:VEVENT
BEGIN:VEVENT
DTSTART;VALUE=DATE:20210724
DTEND;VALUE=DATE:20210801
DTSTAMP:20260423T101411
CREATED:20210715T141241Z
LAST-MODIFIED:20210715T141241Z
UID:5144-1627084800-1627775999@heatmor.com
SUMMARY:Lebanon Area Fair
DESCRIPTION:Lebanon\, PA
URL:https://heatmor.com/event/lebanon-area-fair-3/
LOCATION:Lebanon\, PA\, Lebanon\, PA\, United States
CATEGORIES:Pennsylvania
END:VEVENT
BEGIN:VEVENT
DTSTART;VALUE=DATE:20200811
DTEND;VALUE=DATE:20200816
DTSTAMP:20260423T101411
CREATED:20200117T221748Z
LAST-MODIFIED:20200117T221748Z
UID:4473-1597104000-1597535999@heatmor.com
SUMMARY:Perry County Fair
DESCRIPTION:
URL:https://heatmor.com/event/perry-county-fair/
LOCATION:Newport\, PA\, Newport\, PA\, United States
CATEGORIES:Pennsylvania
END:VEVENT
BEGIN:VEVENT
DTSTART;VALUE=DATE:20200810
DTEND;VALUE=DATE:20200816
DTSTAMP:20260423T101411
CREATED:20200117T221622Z
LAST-MODIFIED:20200117T221622Z
UID:4471-1597017600-1597535999@heatmor.com
SUMMARY:Sykesville Fair
DESCRIPTION:
URL:https://heatmor.com/event/sykesville-fair-2/
LOCATION:Sykesville\, PA\, Sykesville\, PA\, United States
CATEGORIES:Pennsylvania
END:VEVENT
BEGIN:VEVENT
DTSTART;VALUE=DATE:20200803
DTEND;VALUE=DATE:20200809
DTSTAMP:20260423T101411
CREATED:20200117T221459Z
LAST-MODIFIED:20200117T221459Z
UID:4469-1596412800-1596931199@heatmor.com
SUMMARY:Mifflin County Youth Fair
DESCRIPTION:
URL:https://heatmor.com/event/mifflin-county-youth-fair/
LOCATION:Reedsville\, PA\, Reedsville\, PA\, United States
CATEGORIES:Pennsylvania
END:VEVENT
BEGIN:VEVENT
DTSTART;VALUE=DATE:20200802
DTEND;VALUE=DATE:20200811
DTSTAMP:20260423T101411
CREATED:20200117T221307Z
LAST-MODIFIED:20200117T221307Z
UID:4467-1596326400-1597103999@heatmor.com
SUMMARY:Huntingdon County Fair
DESCRIPTION:
URL:https://heatmor.com/event/huntingdon-county-fair/
LOCATION:Huntingdon\, PA\, Huntingdon\, PA\, United States
CATEGORIES:Pennsylvania
END:VEVENT
BEGIN:VEVENT
DTSTART;VALUE=DATE:20200802
DTEND;VALUE=DATE:20200809
DTSTAMP:20260423T101411
CREATED:20200117T221129Z
LAST-MODIFIED:20200117T221129Z
UID:4465-1596326400-1596931199@heatmor.com
SUMMARY:Clearfield County Fair
DESCRIPTION:
URL:https://heatmor.com/event/clearfield-county-fair-2/
LOCATION:Clearfield\, PA\, Clearfield\, PA\, United States
CATEGORIES:Pennsylvania
END:VEVENT
BEGIN:VEVENT
DTSTART;VALUE=DATE:20200801
DTEND;VALUE=DATE:20200803
DTSTAMP:20260423T101411
CREATED:20200117T220957Z
LAST-MODIFIED:20200117T220957Z
UID:4463-1596240000-1596412799@heatmor.com
SUMMARY:Hazen Flea Market
DESCRIPTION:
URL:https://heatmor.com/event/hazen-flea-market-4/
LOCATION:Hazen/Brookville\, PA\, Hazen/Brookville\, PA\, United States
CATEGORIES:Pennsylvania
END:VEVENT
BEGIN:VEVENT
DTSTART;VALUE=DATE:20200725
DTEND;VALUE=DATE:20200802
DTSTAMP:20260423T101411
CREATED:20200117T220810Z
LAST-MODIFIED:20200117T220810Z
UID:4460-1595635200-1596326399@heatmor.com
SUMMARY:Lebanon Area Fair
DESCRIPTION:
URL:https://heatmor.com/event/lebanon-area-fair-2/
LOCATION:Lebanon\, PA\, Lebanon\, PA\, United States
CATEGORIES:Pennsylvania
END:VEVENT
BEGIN:VEVENT
DTSTART;VALUE=DATE:20200724
DTEND;VALUE=DATE:20200727
DTSTAMP:20260423T101411
CREATED:20200626T121341Z
LAST-MODIFIED:20200626T121341Z
UID:4644-1595548800-1595807999@heatmor.com
SUMMARY:Pittsburgh State University
DESCRIPTION:
URL:https://heatmor.com/event/pittsburgh-state-university/
LOCATION:PA
CATEGORIES:Pennsylvania
END:VEVENT
BEGIN:VEVENT
DTSTART;VALUE=DATE:20200704
DTEND;VALUE=DATE:20200706
DTSTAMP:20260423T101411
CREATED:20200117T220553Z
LAST-MODIFIED:20200117T220553Z
UID:4458-1593820800-1593993599@heatmor.com
SUMMARY:Hazen Flea Market
DESCRIPTION:
URL:https://heatmor.com/event/hazen-flea-market-3/
LOCATION:Hazen/Brookville\, PA\, Hazen/Brookville\, PA\, United States
CATEGORIES:Pennsylvania
END:VEVENT
BEGIN:VEVENT
DTSTART;VALUE=DATE:20200701
DTEND;VALUE=DATE:20200801
DTSTAMP:20260423T101411
CREATED:20200117T220425Z
LAST-MODIFIED:20200117T220425Z
UID:4456-1593561600-1596239999@heatmor.com
SUMMARY:Lycoming County Fair
DESCRIPTION:
URL:https://heatmor.com/event/lycoming-county-fair-2/
LOCATION:Hughesville\, PA\, Hughesville\, PA\, United States
CATEGORIES:Pennsylvania
END:VEVENT
BEGIN:VEVENT
DTSTART;VALUE=DATE:20200606
DTEND;VALUE=DATE:20200608
DTSTAMP:20260423T101411
CREATED:20200117T220259Z
LAST-MODIFIED:20200117T220259Z
UID:4454-1591401600-1591574399@heatmor.com
SUMMARY:Hazen Flea Market
DESCRIPTION:
URL:https://heatmor.com/event/hazen-flea-market-2/
LOCATION:Hazen/Brookville\, PA\, Hazen/Brookville\, PA\, United States
CATEGORIES:Pennsylvania
END:VEVENT
BEGIN:VEVENT
DTSTART;VALUE=DATE:20200502
DTEND;VALUE=DATE:20200504
DTSTAMP:20260423T101411
CREATED:20200117T220110Z
LAST-MODIFIED:20200117T220110Z
UID:4451-1588377600-1588550399@heatmor.com
SUMMARY:Hazen Flea Market
DESCRIPTION:
URL:https://heatmor.com/event/hazen-flea-market/
LOCATION:Hazen/Brookville\, PA\, Hazen/Brookville\, PA\, United States
CATEGORIES:Pennsylvania
END:VEVENT
BEGIN:VEVENT
DTSTART;VALUE=DATE:20200320
DTEND;VALUE=DATE:20200323
DTSTAMP:20260423T101411
CREATED:20200117T215843Z
LAST-MODIFIED:20200117T215843Z
UID:4449-1584662400-1584921599@heatmor.com
SUMMARY:Central PA Outdoor Show
DESCRIPTION:
URL:https://heatmor.com/event/central-pa-outdoor-show/
LOCATION:Clearfield\, PA\, Clearfield\, PA\, United States
CATEGORIES:Pennsylvania
END:VEVENT
BEGIN:VEVENT
DTSTART;VALUE=DATE:20190921
DTEND;VALUE=DATE:20190929
DTSTAMP:20260423T101411
CREATED:20190913T205843Z
LAST-MODIFIED:20190913T205843Z
UID:3685-1569024000-1569715199@heatmor.com
SUMMARY:Bloomsburg Fair
DESCRIPTION:
URL:https://heatmor.com/event/bloomsburg-fair/
LOCATION:Bloomsburg\, PA\, Bloomsburg\, PA\, United States
CATEGORIES:Pennsylvania
END:VEVENT
BEGIN:VEVENT
DTSTART;VALUE=DATE:20190915
DTEND;VALUE=DATE:20190922
DTSTAMP:20260423T101411
CREATED:20190913T205753Z
LAST-MODIFIED:20190913T205753Z
UID:3683-1568505600-1569110399@heatmor.com
SUMMARY:Beaver Community Fair
DESCRIPTION:
URL:https://heatmor.com/event/beaver-community-fair/
LOCATION:Beaver Spring\, PA\, Beaver Spring\, PA\, United States
CATEGORIES:Pennsylvania
END:VEVENT
BEGIN:VEVENT
DTSTART;VALUE=DATE:20190831
DTEND;VALUE=DATE:20190908
DTSTAMP:20260423T101411
CREATED:20190913T205320Z
LAST-MODIFIED:20190913T205320Z
UID:3671-1567209600-1567900799@heatmor.com
SUMMARY:Juniata County Fair
DESCRIPTION:
URL:https://heatmor.com/event/juniata-county-fair/
LOCATION:Pork Royal\, PA\, Pork Royal\, PA\, United States
CATEGORIES:Pennsylvania
END:VEVENT
BEGIN:VEVENT
DTSTART;VALUE=DATE:20190828
DTEND;VALUE=DATE:20190903
DTSTAMP:20260423T101411
CREATED:20190913T205217Z
LAST-MODIFIED:20190913T205217Z
UID:3669-1566950400-1567468799@heatmor.com
SUMMARY:Sullivan City Fair
DESCRIPTION:
URL:https://heatmor.com/event/sullivan-city-fair/
LOCATION:Forksville\, PA\, Forksville\, PA\, United States
CATEGORIES:Pennsylvania
END:VEVENT
BEGIN:VEVENT
DTSTART;VALUE=DATE:20190820
DTEND;VALUE=DATE:20190825
DTSTAMP:20260423T101411
CREATED:20190913T205139Z
LAST-MODIFIED:20190913T205139Z
UID:3667-1566259200-1566691199@heatmor.com
SUMMARY:Hookstown Fair
DESCRIPTION:
URL:https://heatmor.com/event/hookstown-fair/
LOCATION:Hookstown\, PA\, Hookstown\, PA\, United States
CATEGORIES:Pennsylvania
END:VEVENT
BEGIN:VEVENT
DTSTART;VALUE=DATE:20190819
DTEND;VALUE=DATE:20190825
DTSTAMP:20260423T101411
CREATED:20190913T205101Z
LAST-MODIFIED:20190913T205101Z
UID:3665-1566172800-1566691199@heatmor.com
SUMMARY:Harford County Fair
DESCRIPTION:
URL:https://heatmor.com/event/harford-county-fair/
LOCATION:New Milford\, PA\, New Milford\, PA\, United States
CATEGORIES:Pennsylvania
END:VEVENT
BEGIN:VEVENT
DTSTART;VALUE=DATE:20190816
DTEND;VALUE=DATE:20190819
DTSTAMP:20260423T101411
CREATED:20190913T205020Z
LAST-MODIFIED:20190913T205020Z
UID:3663-1565913600-1566172799@heatmor.com
SUMMARY:St. Marys Aviation Festival
DESCRIPTION:
URL:https://heatmor.com/event/st-marys-aviation-festival/
LOCATION:St. Marys\, PA\, St. Marys\, PA\, United States
CATEGORIES:Pennsylvania
END:VEVENT
BEGIN:VEVENT
DTSTART;VALUE=DATE:20190813
DTEND;VALUE=DATE:20190816
DTSTAMP:20260423T101411
CREATED:20190913T204927Z
LAST-MODIFIED:20190913T204927Z
UID:3661-1565654400-1565913599@heatmor.com
SUMMARY:Ag Progress Days
DESCRIPTION:
URL:https://heatmor.com/event/ag-progress-days/
LOCATION:Rock Springs\, PA\, Rock Springs\, PA\, United States
CATEGORIES:Pennsylvania
END:VEVENT
BEGIN:VEVENT
DTSTART;VALUE=DATE:20190807
DTEND;VALUE=DATE:20190812
DTSTAMP:20260423T101411
CREATED:20190913T204849Z
LAST-MODIFIED:20190913T204849Z
UID:3659-1565136000-1565567999@heatmor.com
SUMMARY:Washington City Fair
DESCRIPTION:
URL:https://heatmor.com/event/washington-city-fair-2/
LOCATION:Washington\, PA\, Washington\, PA\, United States
CATEGORIES:Pennsylvania
END:VEVENT
BEGIN:VEVENT
DTSTART;VALUE=DATE:20190805
DTEND;VALUE=DATE:20190816
DTSTAMP:20260423T101411
CREATED:20190913T204741Z
LAST-MODIFIED:20190913T204741Z
UID:3657-1564963200-1565913599@heatmor.com
SUMMARY:West End Fair (Union County)
DESCRIPTION:
URL:https://heatmor.com/event/west-end-fair-union-county/
LOCATION:Lowelton\, PA\, Lowelton\, PA\, United States
CATEGORIES:Pennsylvania
END:VEVENT
BEGIN:VEVENT
DTSTART;VALUE=DATE:20190805
DTEND;VALUE=DATE:20190811
DTSTAMP:20260423T101411
CREATED:20190913T204647Z
LAST-MODIFIED:20190913T204647Z
UID:3655-1564963200-1565481599@heatmor.com
SUMMARY:Mifflin City Youth Fair
DESCRIPTION:
URL:https://heatmor.com/event/mifflin-city-youth-fair/
LOCATION:Reedsville\, PA\, Reedsville\, PA\, United States
CATEGORIES:Pennsylvania
END:VEVENT
BEGIN:VEVENT
DTSTART;VALUE=DATE:20190805
DTEND;VALUE=DATE:20190811
DTSTAMP:20260423T101411
CREATED:20190913T204607Z
LAST-MODIFIED:20190913T204607Z
UID:3653-1564963200-1565481599@heatmor.com
SUMMARY:Sykesville Fair
DESCRIPTION:
URL:https://heatmor.com/event/sykesville-fair/
LOCATION:Sykesville\, PA\, Sykesville\, PA\, United States
CATEGORIES:Pennsylvania
END:VEVENT
BEGIN:VEVENT
DTSTART;VALUE=DATE:20190804
DTEND;VALUE=DATE:20190811
DTSTAMP:20260423T101411
CREATED:20190913T204531Z
LAST-MODIFIED:20190913T204531Z
UID:3651-1564876800-1565481599@heatmor.com
SUMMARY:Huntingdon City Fair
DESCRIPTION:
URL:https://heatmor.com/event/huntingdon-city-fair/
LOCATION:Huntingdon\, PA\, Huntingdon\, PA\, United States
CATEGORIES:Pennsylvania
END:VEVENT
BEGIN:VEVENT
DTSTART;VALUE=DATE:20190802
DTEND;VALUE=DATE:20190808
DTSTAMP:20260423T101411
CREATED:20190913T204448Z
LAST-MODIFIED:20190913T204448Z
UID:3649-1564704000-1565222399@heatmor.com
SUMMARY:West Alexander Fair
DESCRIPTION:
URL:https://heatmor.com/event/west-alexander-fair/
LOCATION:West Alexander\, PA\, West Alexander\, PA\, United States
CATEGORIES:Pennsylvania
END:VEVENT
BEGIN:VEVENT
DTSTART;VALUE=DATE:20190728
DTEND;VALUE=DATE:20190805
DTSTAMP:20260423T101411
CREATED:20190913T203618Z
LAST-MODIFIED:20190913T203618Z
UID:3627-1564272000-1564963199@heatmor.com
SUMMARY:Clearfield County Fair
DESCRIPTION:
URL:https://heatmor.com/event/clearfield-county-fair/
LOCATION:Clearfield\, PA\, Clearfield\, PA\, United States
CATEGORIES:Pennsylvania
END:VEVENT
END:VCALENDAR